BEGIN:VCALENDAR
VERSION:2.0
PRODID:-//ChamberMaster//Event Calendar 2.0//EN
METHOD:PUBLISH
X-PUBLISHED-TTL:P1H
REFRESH-INTERVAL:P1H
CALSCALE:GREGORIAN
BEGIN:VTIMEZONE
TZID:America/Chicago
BEGIN:DAYLIGHT
RRULE:FREQ=YEARLY;BYMONTH=3;BYDAY=2SU
DTSTART:20070101T000000
TZOFFSETFROM:-0600
TZOFFSETTO:-0500
TZNAME:Central Daylight Time
END:DAYLIGHT
BEGIN:STANDARD
RRULE:FREQ=YEARLY;BYMONTH=11;BYDAY=1SU
DTSTART:20070101T000000
TZOFFSETFROM:-0500
TZOFFSETTO:-0600
TZNAME:Central Standard Time
END:STANDARD
END:VTIMEZONE
BEGIN:VEVENT
DTSTART;VALUE=DATE:20261020
DTEND;VALUE=DATE:20261022
TRANSP:TRANSPARENT
X-MICROSOFT-CDO-ALLDAYEVENT:TRUE
SUMMARY:Build My Future - Exhibitor and Sponsor Registration
DESCRIPTION:COHBA's workforce development initiative for Oklahoma high school\, career tech students and job seekers. October 20th is our Career Fair Day\, This day Connects job seekers within construction careers directly to industry companies resulting in real job opportunities. October 21st is our Student Day\, This day offers interactive\, hands-on exhibits from skilled trades\, giving students valuable internship and future employment opportunities.*New Location This Year\, Cleveland County Fairgrounds 615 E Robinson St\, Norman*
X-ALT-DESC;FMTTYPE=text/html:<!DOCTYPE html><html><head><title></title></head><body aria-disabled="false"><p>COHBA&rsquo\;s workforce development initiative for Oklahoma high school\, career tech students and job seekers. October 20th is our Career Fair Day\, This day Connects job seekers within construction careers directly to industry companies resulting in real job opportunities. October 21st is our Student Day\, This day offers interactive\, hands-on exhibits from skilled trades\, giving students valuable internship and future employment opportunities.</p><p>*<u>New Location This Year</u>\, Cleveland County Fairgrounds 615 E Robinson St\, Norman*</p></body></html>
LOCATION:615 E Robinson St. Norman 73071
UID:e.4286.1426880
SEQUENCE:3
DTSTAMP:20260422T091252Z
URL:https://members.cohba.org/events/Details/build-my-future-exhibitor-and-sponsor-registration-1687536?sourceTypeId=Hub
END:VEVENT
END:VCALENDAR
